BEGIN:VCALENDAR
VERSION:2.0
PRODID:-//hacksw/handcal//NONSGML v1.0//EN
BEGIN:VEVENT
SUMMARY:Tournoi sur herbe organise par DDV
UID:6fd067c9-1432-4a1c-ae81-ed43eebc1b82
DTSTART:20260614T070000Z
DTEND:20260614T220000Z
LOCATION:Localisation Stade Frederic Abbate, la Calade 84270 VEDENE
CATEGORIES:Sportif
STATUS:
URL;VALUE=URI:https://www.cd84volley.fr/evenements/2026/06/14/tournoi-sur-herbe-organise-par-ddv-2437464
END:VEVENT
END:VCALENDAR
